BEGIN:VCALENDAR
VERSION:2.0
PRODID:-//KBC Networks//NONSGML kigkonsult.se iCalcreator 2.41.92//
CALSCALE:GREGORIAN
METHOD:PUBLISH
UID:38636162-3033-4235-b662-636534393637
X-WR-CALNAME:iCagenda
X-WR-CALDESC:Event Management Extension for Joomla!
X-WR-RELCALID:3E26604A-50F4-4449-8B3E-E4F4932D05B5
X-WR-TIMEZONE:UTC
BEGIN:VTIMEZONE
TZID:UTC
END:VTIMEZONE
BEGIN:VEVENT
UID:34633933-6334-4261-b930-646336333264
DTSTAMP:20260421T102813Z
CATEGORIES:Global Exhibitions
CLASS:PUBLIC
DESCRIPTION;ALTREP="CID:<FFFF__=0ABBE548DFE235B58f9e8a93d@coffeebean.com>":
 The GSX (Global Security Exchange) show is a major international trade sho
 w and conference for security professionals\, held annually by ASIS Intern
 ational\, the world's largest organization for security management profess
 ionals.  Visit KBC Networks on Booth #905.
DTSTART:20250929T111100Z
DTEND:20251001T111200Z
GEO:+29.939539;-90.063179
LOCATION:Ernest N. Morial Convention Center
ORGANIZER:
SEQUENCE:1
SUMMARY:GSX - Global Security Exchange
TRANSP:OPAQUE
URL:https://kbcnetworks.com/news-events/events/gsx-global-security-exchange
END:VEVENT
END:VCALENDAR
