BEGIN:VCALENDAR
VERSION:2.0
PRODID:-//KBC Networks//NONSGML kigkonsult.se iCalcreator 2.41.92//
CALSCALE:GREGORIAN
METHOD:PUBLISH
UID:62656238-3362-4831-b563-333535343866
X-WR-CALNAME:iCagenda
X-WR-CALDESC:Event Management Extension for Joomla!
X-WR-RELCALID:3E26604A-50F4-4449-8B3E-E4F4932D05B5
X-WR-TIMEZONE:UTC
BEGIN:VTIMEZONE
TZID:UTC
END:VTIMEZONE
BEGIN:VEVENT
UID:61313533-3834-4331-a263-353365626366
DTSTAMP:20260421T102249Z
CATEGORIES:Global Exhibitions
CLASS:PUBLIC
DESCRIPTION;ALTREP="CID:<FFFF__=0ABBE548DFE235B58f9e8a93d@coffeebean.com>":
 The International Security Conference &amp\; Exposition – also known as IS
 C East – is the Northeast’s leading security &amp\; public safety event\, 
 hosted in collaboration with premier sponsor Security Industry Association
  (SIA) and in partnership with ASIS NYC.
DTSTART:20251118T100000Z
DTEND:20251120T160000Z
GEO:+40.758358;-74.002121
LOCATION:Javits Center\, New York
ORGANIZER;CN=:mailto:inquiry@isc.reedexpo.com
SEQUENCE:1
SUMMARY:ISC East
TRANSP:OPAQUE
URL:https://kbcnetworks.com/news-events/events/1-isc-east
END:VEVENT
END:VCALENDAR
